Package: GMRP Version: 1.34.0 Command: /Library/Frameworks/R.framework/Resources/bin/R CMD INSTALL GMRP StartedAt: 2025-02-03 15:31:44 -0500 (Mon, 03 Feb 2025) EndedAt: 2025-02-03 15:31:50 -0500 (Mon, 03 Feb 2025) EllapsedTime: 6.0 seconds RetCode: 0 Status: OK