Package: GMRP Version: 1.34.0 Command: /Library/Frameworks/R.framework/Resources/bin/R CMD build --keep-empty-dirs --no-resave-data GMRP StartedAt: 2025-02-03 19:18:17 -0500 (Mon, 03 Feb 2025) EndedAt: 2025-02-03 19:19:02 -0500 (Mon, 03 Feb 2025) EllapsedTime: 45.0 seconds RetCode: 0 Status: OK PackageFile: GMRP_1.34.0.tar.gz PackageFileSize: 897 KiB