Package: GMRP Version: 1.34.0 Command: /home/biocbuild/bbs-3.20-bioc/R/bin/R CMD INSTALL GMRP StartedAt: 2025-02-10 15:20:07 -0500 (Mon, 10 Feb 2025) EndedAt: 2025-02-10 15:20:16 -0500 (Mon, 10 Feb 2025) EllapsedTime: 8.7 seconds RetCode: 0 Status: OK