Package: GMRP Version: 1.34.0 Command: chmod a+r GMRP -R && F:\biocbuild\bbs-3.20-bioc\R\bin\R.exe CMD build --keep-empty-dirs --no-resave-data GMRP StartedAt: 2025-02-10 19:25:13 -0500 (Mon, 10 Feb 2025) EndedAt: 2025-02-10 19:25:41 -0500 (Mon, 10 Feb 2025) EllapsedTime: 27.5 seconds RetCode: 0 Status: OK PackageFile: GMRP_1.34.0.tar.gz PackageFileSize: 899.8 KiB