Package: GOSemSim Version: 2.32.0 Command: /Library/Frameworks/R.framework/Resources/bin/R CMD build --keep-empty-dirs --no-resave-data GOSemSim StartedAt: 2025-02-04 00:46:02 -0500 (Tue, 04 Feb 2025) EndedAt: 2025-02-04 00:46:32 -0500 (Tue, 04 Feb 2025) EllapsedTime: 30.6 seconds RetCode: 0 Status: OK PackageFile: GOSemSim_2.32.0.tar.gz PackageFileSize: 594.7 KiB