Package: GOSemSim Version: 2.32.0 Command: /Library/Frameworks/R.framework/Resources/bin/R CMD build --keep-empty-dirs --no-resave-data GOSemSim StartedAt: 2025-02-10 19:16:31 -0500 (Mon, 10 Feb 2025) EndedAt: 2025-02-10 19:17:27 -0500 (Mon, 10 Feb 2025) EllapsedTime: 55.9 seconds RetCode: 0 Status: OK PackageFile: GOSemSim_2.32.0.tar.gz PackageFileSize: 594.7 KiB