Package: GOSemSim Version: 2.32.0 Command: /home/biocbuild/R/R/bin/R CMD check --install=check:GOSemSim.install-out.txt --library=/home/biocbuild/R/R/site-library --no-vignettes --timings GOSemSim_2.32.0.tar.gz StartedAt: 2025-02-11 06:50:19 -0000 (Tue, 11 Feb 2025) EndedAt: 2025-02-11 06:53:17 -0000 (Tue, 11 Feb 2025) EllapsedTime: 178.1 seconds RetCode: 0 Status: OK CheckDir: GOSemSim.Rcheck Warnings: 0