Package: GOSemSim Version: 2.32.0 Command: /home/biocbuild/R/R/bin/R CMD INSTALL GOSemSim StartedAt: 2025-02-10 20:33:34 -0000 (Mon, 10 Feb 2025) EndedAt: 2025-02-10 20:34:05 -0000 (Mon, 10 Feb 2025) EllapsedTime: 31.5 seconds RetCode: 0 Status: OK