Package: GOTHiC Version: 1.42.0 Command: /Library/Frameworks/R.framework/Resources/bin/R CMD check --install=check:GOTHiC.install-out.txt --library=/Library/Frameworks/R.framework/Resources/library --no-vignettes --timings GOTHiC_1.42.0.tar.gz StartedAt: 2025-02-04 21:46:42 -0500 (Tue, 04 Feb 2025) EndedAt: 2025-02-04 21:52:55 -0500 (Tue, 04 Feb 2025) EllapsedTime: 372.3 seconds RetCode: 0 Status: OK CheckDir: GOTHiC.Rcheck Warnings: 0