Package: GOTHiC Version: 1.42.0 Command: /home/biocbuild/R/R/bin/R CMD build --keep-empty-dirs --no-resave-data GOTHiC StartedAt: 2024-11-20 01:07:57 -0000 (Wed, 20 Nov 2024) EndedAt: 2024-11-20 01:08:50 -0000 (Wed, 20 Nov 2024) EllapsedTime: 53.1 seconds RetCode: 0 Status: OK PackageFile: GOTHiC_1.42.0.tar.gz PackageFileSize: 1.686 MiB