Package: GOTHiC Version: 1.42.0 Command: /Library/Frameworks/R.framework/Resources/bin/R CMD check --install=check:GOTHiC.install-out.txt --library=/Library/Frameworks/R.framework/Resources/library --no-vignettes --timings GOTHiC_1.42.0.tar.gz StartedAt: 2025-02-04 04:35:18 -0500 (Tue, 04 Feb 2025) EndedAt: 2025-02-04 04:45:12 -0500 (Tue, 04 Feb 2025) EllapsedTime: 593.5 seconds RetCode: 0 Status: OK CheckDir: GOTHiC.Rcheck Warnings: 0