Package: GOTHiC Version: 1.42.0 Command: /home/biocbuild/bbs-3.20-bioc/R/bin/R CMD build --keep-empty-dirs --no-resave-data --md5 GOTHiC StartedAt: 2025-02-03 17:40:13 -0500 (Mon, 03 Feb 2025) EndedAt: 2025-02-03 17:40:51 -0500 (Mon, 03 Feb 2025) EllapsedTime: 38.0 seconds RetCode: 0 Status: OK PackageFile: GOTHiC_1.42.0.tar.gz PackageFileSize: 1.698 MiB