Package: GOTHiC Version: 1.42.0 Command: /home/biocbuild/R/R/bin/R CMD INSTALL GOTHiC StartedAt: 2025-02-03 20:47:41 -0000 (Mon, 03 Feb 2025) EndedAt: 2025-02-03 20:48:28 -0000 (Mon, 03 Feb 2025) EllapsedTime: 46.1 seconds RetCode: 0 Status: OK