Package: GOfuncR Version: 1.26.0 Command: rm -rf GOfuncR.buildbin-libdir && mkdir GOfuncR.buildbin-libdir && /Users/biocbuild/BBS/utils/build-universal.sh GOfuncR_1.26.0.tar.gz /Library/Frameworks/R.framework/Resources/bin/R GOfuncR.buildbin-libdir StartedAt: 2025-02-05 16:05:44 -0500 (Wed, 05 Feb 2025) EndedAt: 2025-02-05 16:07:42 -0500 (Wed, 05 Feb 2025) EllapsedTime: 117.8 seconds RetCode: 0 Status: OK PackageFile: GOfuncR_1.26.0.tgz PackageFileSize: 4.33 MiB