Package: GOfuncR Version: 1.26.0 Command: /Library/Frameworks/R.framework/Resources/bin/R CMD INSTALL GOfuncR StartedAt: 2025-02-03 15:39:16 -0500 (Mon, 03 Feb 2025) EndedAt: 2025-02-03 15:40:09 -0500 (Mon, 03 Feb 2025) EllapsedTime: 52.5 seconds RetCode: 0 Status: OK