Package: GOfuncR Version: 1.26.0 Command: /Library/Frameworks/R.framework/Resources/bin/R CMD check --install=check:GOfuncR.install-out.txt --library=/Library/Frameworks/R.framework/Resources/library --no-vignettes --timings GOfuncR_1.26.0.tar.gz StartedAt: 2025-02-04 04:33:50 -0500 (Tue, 04 Feb 2025) EndedAt: 2025-02-04 04:43:38 -0500 (Tue, 04 Feb 2025) EllapsedTime: 587.7 seconds RetCode: 0 Status: OK CheckDir: GOfuncR.Rcheck Warnings: 0