Package: GOfuncR Version: 1.26.0 Command: /home/biocbuild/bbs-3.20-bioc/R/bin/R CMD INSTALL GOfuncR StartedAt: 2025-02-10 15:23:24 -0500 (Mon, 10 Feb 2025) EndedAt: 2025-02-10 15:25:01 -0500 (Mon, 10 Feb 2025) EllapsedTime: 97.0 seconds RetCode: 0 Status: OK