Package: GOfuncR Version: 1.26.0 Command: F:\biocbuild\bbs-3.20-bioc\R\bin\R.exe CMD check --no-multiarch --install=check:GOfuncR.install-out.txt --library=F:\biocbuild\bbs-3.20-bioc\R\library --no-vignettes --timings GOfuncR_1.26.0.tar.gz StartedAt: 2025-02-11 02:19:35 -0500 (Tue, 11 Feb 2025) EndedAt: 2025-02-11 02:32:43 -0500 (Tue, 11 Feb 2025) EllapsedTime: 788.0 seconds RetCode: 0 Status: OK CheckDir: GOfuncR.Rcheck Warnings: 0