Package: GOfuncR Version: 1.26.0 Command: /home/biocbuild/R/R/bin/R CMD build --keep-empty-dirs --no-resave-data GOfuncR StartedAt: 2025-02-04 00:02:28 -0000 (Tue, 04 Feb 2025) EndedAt: 2025-02-04 00:07:28 -0000 (Tue, 04 Feb 2025) EllapsedTime: 300.1 seconds RetCode: 0 Status: OK PackageFile: GOfuncR_1.26.0.tar.gz PackageFileSize: 4.869 MiB