Package: GOpro Version: 1.32.0 Command: /Library/Frameworks/R.framework/Resources/bin/R CMD build --keep-empty-dirs --no-resave-data GOpro StartedAt: 2025-01-31 00:47:10 -0500 (Fri, 31 Jan 2025) EndedAt: 2025-01-31 00:48:28 -0500 (Fri, 31 Jan 2025) EllapsedTime: 77.7 seconds RetCode: 0 Status: OK PackageFile: GOpro_1.32.0.tar.gz PackageFileSize: 1.056 MiB