Package: GOpro Version: 1.32.0 Command: /Library/Frameworks/R.framework/Resources/bin/R CMD INSTALL GOpro StartedAt: 2025-02-03 15:35:47 -0500 (Mon, 03 Feb 2025) EndedAt: 2025-02-03 15:37:00 -0500 (Mon, 03 Feb 2025) EllapsedTime: 72.3 seconds RetCode: 0 Status: OK