Package: GOpro Version: 1.32.0 Command: /home/biocbuild/R/R/bin/R CMD build --keep-empty-dirs --no-resave-data GOpro StartedAt: 2025-01-31 00:02:55 -0000 (Fri, 31 Jan 2025) EndedAt: 2025-01-31 00:04:21 -0000 (Fri, 31 Jan 2025) EllapsedTime: 86.0 seconds RetCode: 0 Status: OK PackageFile: GOpro_1.32.0.tar.gz PackageFileSize: 836 KiB