Package: GOpro Version: 1.32.0 Command: /home/biocbuild/R/R/bin/R CMD INSTALL GOpro StartedAt: 2025-01-30 20:22:02 -0000 (Thu, 30 Jan 2025) EndedAt: 2025-01-30 20:22:47 -0000 (Thu, 30 Jan 2025) EllapsedTime: 44.9 seconds RetCode: 0 Status: OK