Package: GOstats Version: 2.72.0 Command: /Library/Frameworks/R.framework/Resources/bin/R CMD build --keep-empty-dirs --no-resave-data GOstats StartedAt: 2025-02-04 00:50:21 -0500 (Tue, 04 Feb 2025) EndedAt: 2025-02-04 01:10:48 -0500 (Tue, 04 Feb 2025) EllapsedTime: 1227.1 seconds RetCode: 0 Status: OK PackageFile: GOstats_2.72.0.tar.gz PackageFileSize: 2.895 MiB