Package: GOstats Version: 2.72.0 Command: /Library/Frameworks/R.framework/Resources/bin/R CMD check --install=check:GOstats.install-out.txt --library=/Library/Frameworks/R.framework/Resources/library --no-vignettes --timings GOstats_2.72.0.tar.gz StartedAt: 2025-02-11 21:24:25 -0500 (Tue, 11 Feb 2025) EndedAt: 2025-02-11 21:28:52 -0500 (Tue, 11 Feb 2025) EllapsedTime: 267.2 seconds RetCode: 0 Status: OK CheckDir: GOstats.Rcheck Warnings: 0