Package: GOstats Version: 2.72.0 Command: rm -rf GOstats.buildbin-libdir && mkdir GOstats.buildbin-libdir && /Users/biocbuild/BBS/utils/build-universal.sh GOstats_2.72.0.tar.gz /Library/Frameworks/R.framework/Resources/bin/R GOstats.buildbin-libdir StartedAt: 2025-02-04 13:05:50 -0500 (Tue, 04 Feb 2025) EndedAt: 2025-02-04 13:06:49 -0500 (Tue, 04 Feb 2025) EllapsedTime: 59.7 seconds RetCode: 0 Status: OK PackageFile: GOstats_2.72.0.tgz PackageFileSize: 1.885 MiB