Package: GOstats Version: 2.72.0 Command: /Library/Frameworks/R.framework/Resources/bin/R CMD build --keep-empty-dirs --no-resave-data GOstats StartedAt: 2025-02-03 19:20:38 -0500 (Mon, 03 Feb 2025) EndedAt: 2025-02-03 19:50:46 -0500 (Mon, 03 Feb 2025) EllapsedTime: 1808.6 seconds RetCode: 0 Status: OK PackageFile: GOstats_2.72.0.tar.gz PackageFileSize: 2.895 MiB