Package: GOstats Version: 2.72.0 Command: /Library/Frameworks/R.framework/Resources/bin/R CMD check --install=check:GOstats.install-out.txt --library=/Library/Frameworks/R.framework/Resources/library --no-vignettes --timings GOstats_2.72.0.tar.gz StartedAt: 2025-02-04 04:35:15 -0500 (Tue, 04 Feb 2025) EndedAt: 2025-02-04 04:43:04 -0500 (Tue, 04 Feb 2025) EllapsedTime: 469.1 seconds RetCode: 0 Status: OK CheckDir: GOstats.Rcheck Warnings: 0