Package: GOstats Version: 2.72.0 Command: /Library/Frameworks/R.framework/Resources/bin/R CMD INSTALL GOstats StartedAt: 2025-02-03 16:19:54 -0500 (Mon, 03 Feb 2025) EndedAt: 2025-02-03 16:20:41 -0500 (Mon, 03 Feb 2025) EllapsedTime: 47.4 seconds RetCode: 0 Status: OK