Package: GOstats Version: 2.72.0 Command: chmod a+r GOstats -R && F:\biocbuild\bbs-3.20-bioc\R\bin\R.exe CMD build --keep-empty-dirs --no-resave-data GOstats StartedAt: 2025-02-10 19:27:24 -0500 (Mon, 10 Feb 2025) EndedAt: 2025-02-10 20:07:26 -0500 (Mon, 10 Feb 2025) EllapsedTime: 2402.2 seconds RetCode: None Status: TIMEOUT PackageFile: None PackageFileSize: NA