Package: GOstats Version: 2.72.0 Command: F:\biocbuild\bbs-3.20-bioc\R\bin\R.exe CMD check --no-multiarch --install=check:GOstats.install-out.txt --library=F:\biocbuild\bbs-3.20-bioc\R\library --no-vignettes --timings GOstats_2.72.0.tar.gz StartedAt: 2025-01-24 02:25:35 -0500 (Fri, 24 Jan 2025) EndedAt: 2025-01-24 02:30:41 -0500 (Fri, 24 Jan 2025) EllapsedTime: 305.6 seconds RetCode: 0 Status: OK CheckDir: GOstats.Rcheck Warnings: 0