Package: GOstats Version: 2.72.0 Command: F:\biocbuild\bbs-3.20-bioc\R\bin\R.exe CMD INSTALL GOstats StartedAt: 2025-02-10 16:39:48 -0500 (Mon, 10 Feb 2025) EndedAt: 2025-02-10 16:40:23 -0500 (Mon, 10 Feb 2025) EllapsedTime: 35.3 seconds RetCode: 0 Status: OK