Package: GOstats Version: 2.72.0 Command: /home/biocbuild/R/R/bin/R CMD INSTALL GOstats StartedAt: 2025-02-03 21:06:03 -0000 (Mon, 03 Feb 2025) EndedAt: 2025-02-03 21:06:31 -0000 (Mon, 03 Feb 2025) EllapsedTime: 28.5 seconds RetCode: 0 Status: OK