Package: GPA Version: 1.18.0 Command: /Library/Frameworks/R.framework/Resources/bin/R CMD build --keep-empty-dirs --no-resave-data GPA StartedAt: 2025-02-03 19:21:40 -0500 (Mon, 03 Feb 2025) EndedAt: 2025-02-03 19:25:25 -0500 (Mon, 03 Feb 2025) EllapsedTime: 225.2 seconds RetCode: 0 Status: OK PackageFile: GPA_1.18.0.tar.gz PackageFileSize: 311.4 KiB