Package: GPA Version: 1.18.0 Command: /Library/Frameworks/R.framework/Resources/bin/R CMD INSTALL GPA StartedAt: 2025-02-03 16:07:04 -0500 (Mon, 03 Feb 2025) EndedAt: 2025-02-03 16:07:39 -0500 (Mon, 03 Feb 2025) EllapsedTime: 34.9 seconds RetCode: 0 Status: OK