Package: GPA Version: 1.18.0 Command: /home/biocbuild/R/R/bin/R CMD check --install=check:GPA.install-out.txt --library=/home/biocbuild/R/R/site-library --no-vignettes --timings GPA_1.18.0.tar.gz StartedAt: 2025-02-04 07:36:49 -0000 (Tue, 04 Feb 2025) EndedAt: 2025-02-04 07:37:58 -0000 (Tue, 04 Feb 2025) EllapsedTime: 69.1 seconds RetCode: 0 Status: OK CheckDir: GPA.Rcheck Warnings: 0