Package: GRENITS Version: 1.58.0 Command: rm -rf GRENITS.buildbin-libdir && mkdir GRENITS.buildbin-libdir && /Users/biocbuild/BBS/utils/build-universal.sh GRENITS_1.58.0.tar.gz /Library/Frameworks/R.framework/Resources/bin/R GRENITS.buildbin-libdir StartedAt: 2025-02-12 15:21:44 -0500 (Wed, 12 Feb 2025) EndedAt: 2025-02-12 15:23:04 -0500 (Wed, 12 Feb 2025) EllapsedTime: 80.5 seconds RetCode: 0 Status: OK PackageFile: GRENITS_1.58.0.tgz PackageFileSize: 529.5 KiB