Package: GRENITS Version: 1.58.0 Command: /home/biocbuild/bbs-3.20-bioc/R/bin/R CMD build --keep-empty-dirs --no-resave-data --md5 GRENITS StartedAt: 2025-02-03 17:41:19 -0500 (Mon, 03 Feb 2025) EndedAt: 2025-02-03 17:42:54 -0500 (Mon, 03 Feb 2025) EllapsedTime: 95.1 seconds RetCode: 0 Status: OK PackageFile: GRENITS_1.58.0.tar.gz PackageFileSize: 268.4 KiB