Package: GRENITS Version: 1.58.0 Command: /home/biocbuild/bbs-3.20-bioc/R/bin/R CMD check --install=check:GRENITS.install-out.txt --library=/home/biocbuild/bbs-3.20-bioc/R/site-library --timings GRENITS_1.58.0.tar.gz StartedAt: 2025-02-03 22:58:56 -0500 (Mon, 03 Feb 2025) EndedAt: 2025-02-03 23:02:29 -0500 (Mon, 03 Feb 2025) EllapsedTime: 213.3 seconds RetCode: 0 Status: OK CheckDir: GRENITS.Rcheck Warnings: 0