Package: GRENITS Version: 1.58.0 Command: rm -rf GRENITS.buildbin-libdir && mkdir GRENITS.buildbin-libdir && F:\biocbuild\bbs-3.20-bioc\R\bin\R.exe CMD INSTALL --build --library=GRENITS.buildbin-libdir GRENITS_1.58.0.tar.gz StartedAt: 2025-02-04 08:39:30 -0500 (Tue, 04 Feb 2025) EndedAt: 2025-02-04 08:42:03 -0500 (Tue, 04 Feb 2025) EllapsedTime: 152.7 seconds RetCode: 0 Status: OK PackageFile: GRENITS_1.58.0.zip PackageFileSize: 737.3 KiB