Package: GRENITS Version: 1.58.0 Command: /home/biocbuild/R/R/bin/R CMD check --install=check:GRENITS.install-out.txt --library=/home/biocbuild/R/R/site-library --no-vignettes --timings GRENITS_1.58.0.tar.gz StartedAt: 2025-02-04 07:38:27 -0000 (Tue, 04 Feb 2025) EndedAt: 2025-02-04 07:41:54 -0000 (Tue, 04 Feb 2025) EllapsedTime: 206.2 seconds RetCode: 0 Status: OK CheckDir: GRENITS.Rcheck Warnings: 0