Package: GRaNIE Version: 1.10.0 Command: rm -rf GRaNIE.buildbin-libdir && mkdir GRaNIE.buildbin-libdir && /Users/biocbuild/BBS/utils/build-universal.sh GRaNIE_1.10.0.tar.gz /Library/Frameworks/R.framework/Resources/bin/R GRaNIE.buildbin-libdir StartedAt: 2025-02-04 13:06:13 -0500 (Tue, 04 Feb 2025) EndedAt: 2025-02-04 13:08:25 -0500 (Tue, 04 Feb 2025) EllapsedTime: 132.8 seconds RetCode: 0 Status: OK PackageFile: GRaNIE_1.10.0.tgz PackageFileSize: 8.983 MiB