Package: GRaNIE Version: 1.10.0 Command: /Library/Frameworks/R.framework/Resources/bin/R CMD build --keep-empty-dirs --no-resave-data GRaNIE StartedAt: 2025-02-03 19:22:17 -0500 (Mon, 03 Feb 2025) EndedAt: 2025-02-03 19:30:26 -0500 (Mon, 03 Feb 2025) EllapsedTime: 489.0 seconds RetCode: 0 Status: OK PackageFile: GRaNIE_1.10.0.tar.gz PackageFileSize: 8.081 MiB