Package: GRaNIE Version: 1.10.0 Command: /home/biocbuild/bbs-3.20-bioc/R/bin/R CMD check --install=check:GRaNIE.install-out.txt --library=/home/biocbuild/bbs-3.20-bioc/R/site-library --timings GRaNIE_1.10.0.tar.gz StartedAt: 2025-02-03 22:57:38 -0500 (Mon, 03 Feb 2025) EndedAt: 2025-02-03 23:08:06 -0500 (Mon, 03 Feb 2025) EllapsedTime: 627.9 seconds RetCode: 0 Status: OK CheckDir: GRaNIE.Rcheck Warnings: 0