Package: GSCA Version: 2.36.0 Command: /Library/Frameworks/R.framework/Resources/bin/R CMD INSTALL GSCA StartedAt: 2025-02-03 16:01:03 -0500 (Mon, 03 Feb 2025) EndedAt: 2025-02-03 16:01:16 -0500 (Mon, 03 Feb 2025) EllapsedTime: 13.4 seconds RetCode: 0 Status: OK