Package: GSCA Version: 2.36.0 Command: /home/biocbuild/bbs-3.20-bioc/R/bin/R CMD check --install=check:GSCA.install-out.txt --library=/home/biocbuild/bbs-3.20-bioc/R/site-library --timings GSCA_2.36.0.tar.gz StartedAt: 2025-02-03 22:59:59 -0500 (Mon, 03 Feb 2025) EndedAt: 2025-02-03 23:02:43 -0500 (Mon, 03 Feb 2025) EllapsedTime: 164.2 seconds RetCode: 0 Status: OK CheckDir: GSCA.Rcheck Warnings: 0