Package: GSCA Version: 2.36.0 Command: /home/biocbuild/R/R/bin/R CMD INSTALL GSCA StartedAt: 2025-02-03 20:54:11 -0000 (Mon, 03 Feb 2025) EndedAt: 2025-02-03 20:54:18 -0000 (Mon, 03 Feb 2025) EllapsedTime: 7.8 seconds RetCode: 0 Status: OK