Package: GSEABase Version: 1.68.0 Command: rm -rf GSEABase.buildbin-libdir && mkdir GSEABase.buildbin-libdir && /Users/biocbuild/BBS/utils/build-universal.sh GSEABase_1.68.0.tar.gz /Library/Frameworks/R.framework/Resources/bin/R GSEABase.buildbin-libdir StartedAt: 2025-02-05 16:08:44 -0500 (Wed, 05 Feb 2025) EndedAt: 2025-02-05 16:09:08 -0500 (Wed, 05 Feb 2025) EllapsedTime: 24.6 seconds RetCode: 0 Status: OK PackageFile: GSEABase_1.68.0.tgz PackageFileSize: 1014 KiB