Package: GSEABase Version: 1.68.0 Command: /Library/Frameworks/R.framework/Resources/bin/R CMD check --install=check:GSEABase.install-out.txt --library=/Library/Frameworks/R.framework/Resources/library --no-vignettes --timings GSEABase_1.68.0.tar.gz StartedAt: 2025-02-04 21:59:14 -0500 (Tue, 04 Feb 2025) EndedAt: 2025-02-04 22:01:38 -0500 (Tue, 04 Feb 2025) EllapsedTime: 143.7 seconds RetCode: 0 Status: OK CheckDir: GSEABase.Rcheck Warnings: 0