Package: GSEABase Version: 1.68.0 Command: /Library/Frameworks/R.framework/Resources/bin/R CMD INSTALL GSEABase StartedAt: 2025-02-03 15:38:20 -0500 (Mon, 03 Feb 2025) EndedAt: 2025-02-03 15:39:09 -0500 (Mon, 03 Feb 2025) EllapsedTime: 49.1 seconds RetCode: 0 Status: OK